
BEGIN:VCALENDAR
VERSION:2.0
PRODID:-//jEvents 1.5 for Joomla//EN
CALSCALE:GREGORIAN
METHOD:PUBLISH
BEGIN:VEVENT

UID:0ba0d390c08e28cad58278b170ca7a6b
CATEGORIES:Standaard
SUMMARY:Nachtvissen
LOCATION:
DESCRIPTION;ENCODING=QUOTED-PRINTABLE:\n\nWe gaan weer Nachtvissen!\n\n\n \n\n\nZaterdag 3 augustus van  22.00uur
  tot 4.00uur\n\n\nPer persoon wordt er 1kilo regenboogforel en 1kilo zalmfo
 rel uitgezet\n\n\n \n\n\nkosten: 30 euro per persoon\n\n\n \n\n\nGeef je op
  bij Rosita via 
 
 
 
 
 Dit e-mailadres is beschermd tegen spambots. U he
 eft Javascript nodig om het te kunnen zien.
 
 
 \n

DTSTAMP:20260425T124006Z
DTSTART:20190803T200000Z
DTEND:20190804T020000Z
SEQUENCE:0
TRANSP:OPAQUE
END:VEVENT
END:VCALENDAR