
BEGIN:VCALENDAR
VERSION:2.0
PRODID:-//jEvents 1.5 for Joomla//EN
CALSCALE:GREGORIAN
METHOD:PUBLISH
BEGIN:VEVENT

UID:45d76b6a499ba785456a4122a36b39d8
CATEGORIES:Standaard
SUMMARY:nk forel jeugd voorronde
LOCATION:
DESCRIPTION;ENCODING=QUOTED-PRINTABLE:<p>Doe dan mee aan de voorrondes van het NK en misschien mag jij dan wel<br
  />meedoen met het NK forelvissen 2019.</p><p>Hoe werkt het?<br />Op zaterd
 ag 23 maart, 20 april en 18 mei 2019 en houden wij voorrondes .<br />De 3 j
 ongeren die na deze selectie in de top 3 zitten mogen voor Forellen Visvijv
 ers<br />Zederik deelnemen aan het NK.<br />Programma Selectie jeugdteam NK
  Forelvissen<br />13:00 uur aankomst<br />13:15 uur instructie<br />14:00 u
 ur oefenen in vijver 1<br />14:30 uur kleine pauze<br />15:00 uur kleine we
 dstrijd .<br />Er wordt door iedere deelnemer 5 rondes gevist van 20 minute
 n.<br />Per ronde worden er per persoon 2 forellen uitgezet.<br />17:00 uur
  uitslag<br />De leeftijd voor deelname aan het jeugd NK is vanaf 0 tot 15 
 jaar.<br />Deelname aan het jeugd NK is gratis. Deelname aan de selectiemid
 dagen kost € 10,00.<br />Je kunt jezelf opgeven via 
 <script language='Jav
 aScript' type='text/javascript'>
 <!--
 var prefix = 'm&#97;&#105;lt&#111;:
 ';
 var suffix = '';
 var attribs = '';
 var path = 'hr' + 'ef' + '=';
 var
  addy37800 = '&#105;nf&#111;' + '&#64;';
 addy37800 = addy37800 + 'f&#111;r
 &#101;lv&#105;sv&#105;jv&#101;rsz&#101;d&#101;r&#105;k' + '&#46;' + 'nl';
 
 document.write( '<a ' + path + '\'' + prefix + addy37800 + suffix + '\'' + 
 attribs + '>' );
 document.write( addy37800 );
 document.write( '<\/a>' );

  //-->
 </script><script language='JavaScript' type='text/javascript'>
 <!-
 -
 document.write( '<span style=\'display: none;\'>' );
 //-->
 </script>Di
 t e-mailadres is beschermd tegen spambots. U heeft Javascript nodig om het 
 te kunnen zien.
 <script language='JavaScript' type='text/javascript'>
 <!-
 -
 document.write( '</' );
 document.write( 'span>' );
 //-->
 </script> of
  via tel: 0183 351625 of 06<br />51362369</p>

DTSTAMP:20260424T101314Z
DTSTART:20190518
DTEND:20190518
SEQUENCE:0
TRANSP:OPAQUE
END:VEVENT
END:VCALENDAR