
BEGIN:VCALENDAR
VERSION:2.0
PRODID:-//jEvents 1.5 for Joomla//EN
CALSCALE:GREGORIAN
METHOD:PUBLISH
BEGIN:VEVENT

UID:eeeba5eea2551d8bed31bcf77682407b
CATEGORIES:Standaard
SUMMARY:nk forel jeugd voorronde
LOCATION:
DESCRIPTION;ENCODING=QUOTED-PRINTABLE:\n\nDoe dan mee aan de voorrondes van het NK en misschien mag jij dan wel\n
 meedoen met het NK forelvissen 2019.\n\n\nHoe werkt het?\nOp zaterdag 23 ma
 art, 20 april en 18 mei 2019 en houden wij voorrondes .\nDe 3 jongeren die 
 na deze selectie in de top 3 zitten mogen voor Forellen Visvijvers\nZederik
  deelnemen aan het NK.\nProgramma Selectie jeugdteam NK Forelvissen\n13:00 
 uur aankomst\n13:15 uur instructie\n14:00 uur oefenen in vijver 1\n14:30 uu
 r kleine pauze\n15:00 uur kleine wedstrijd .\nEr wordt door iedere deelneme
 r 5 rondes gevist van 20 minuten.\nPer ronde worden er per persoon 2 forell
 en uitgezet.\n17:00 uur uitslag\nDe leeftijd voor deelname aan het jeugd NK
  is vanaf 0 tot 15 jaar.\nDeelname aan het jeugd NK is gratis. Deelname aan
  de selectiemiddagen kost € 10,00.\nJe kunt jezelf opgeven via 
 
 
 
 
 Di
 t e-mailadres is beschermd tegen spambots. U heeft Javascript nodig om het 
 te kunnen zien.
 
 
  of via tel: 0183 351625 of 06\n51362369\n

DTSTAMP:20260422T023018Z
DTSTART:20190420
DTEND:20190420
SEQUENCE:0
TRANSP:OPAQUE
END:VEVENT
END:VCALENDAR