
BEGIN:VCALENDAR
VERSION:2.0
PRODID:-//jEvents 1.5 for Joomla//EN
CALSCALE:GREGORIAN
METHOD:PUBLISH
BEGIN:VEVENT

UID:fa77661f2a83298ed1f997fc9bb0b7a8
CATEGORIES:Standaard
SUMMARY:badkuipvisserscup
LOCATION:
DESCRIPTION;ENCODING=QUOTED-PRINTABLE:<p style="text-align: center;" align="center"><span style="font-size: 15pt;
  font-family: 'Comic Sans MS';">Zondag 30 juni 2018 organiseert <span style
 ="color: red;">F</span>orellen <span style="color: red;">V</span>isvijvers 
 <span style="color: red;">Z</span>ederik voor de 4e keer:</span></p><p styl
 e="text-align: center;" align="center"><span style="font-family: 'Comic San
 s MS';"> </span></p><p style="text-align: center;" align="center"><span sty
 le="font-size: 18pt; font-family: 'Comic Sans MS'; color: red;">“</span><sp
 an style="font-size: 18pt; font-family: 'Comic Sans MS'; color: red;">De Ba
 dkuipvisserscup”</span></p><p style="text-align: center;" align="center"><s
 pan style="font-family: 'Comic Sans MS';"> </span></p><p style="text-align:
  center;" align="center"><span style="font-family: 'Comic Sans MS';">Loting
 : 12.30 uur.</span></p><p style="text-align: center;" align="center"><span 
 style="font-family: 'Comic Sans MS';"> </span></p><p style="text-align: cen
 ter;" align="center"><span style="font-family: 'Comic Sans MS';">Aanvang we
 dstrijd: 13.00 uur.</span></p><p style="text-align: center;" align="center"
 ><span style="font-family: 'Comic Sans MS';"> </span></p><p style="text-ali
 gn: center;" align="center"><span style="font-family: 'Comic Sans MS';">Er 
 wordt gevist in 8 ronden van 25 minuten.</span></p><p style="text-align: ce
 nter;" align="center"><span style="font-family: 'Comic Sans MS';"> </span><
 /p><p style="text-align: center;" align="center"><span style="font-family: 
 'Comic Sans MS';">Na 4 ronden is er een pauze van 30 minuten.</span></p><p 
 style="text-align: center;" align="center"><span style="font-family: 'Comic
  Sans MS';"> </span></p><p style="text-align: center;" align="center"><span
  style="font-family: 'Comic Sans MS';">Einde wedstrijd: +/-17.00 uur.</span
 ></p><p style="text-align: center;" align="center"><span style="font-family
 : 'Comic Sans MS';"> </span></p><p style="text-align: center;" align="cente
 r"><span style="font-family: 'Comic Sans MS';">Kosten deelname: €25,00 p.p.
 </span></p><p style="text-align: center;" align="center"><span style="font-
 family: 'Comic Sans MS';"> </span></p><p style="text-align: center;" align=
 "center"><span style="font-family: 'Comic Sans MS';"> </span></p><p style="
 text-align: center;" align="center"><span style="font-family: 'Comic Sans M
 S';"> </span></p><p style="text-align: center;" align="center"><span style=
 "font-family: 'Comic Sans MS';">Inschrijven voor de wedstrijd kan tot en me
 t 29 juni 2018 via 0183-351625 of in de kantine.</span></p><p style="text-a
 lign: center;" align="center"><span style="font-family: 'Comic Sans MS';"> 
 </span></p><p style="text-align: center;" align="center"><span style="font-
 family: 'Comic Sans MS';">De wisselbeker voor deze wedstrijd is o.a. gespon
 sord door Guido Brauckmann!!</span></p>

DTSTAMP:20260424T013601Z
DTSTART:20180701T110000Z
DTEND:20180701T150000Z
SEQUENCE:0
TRANSP:OPAQUE
END:VEVENT
END:VCALENDAR