
BEGIN:VCALENDAR
VERSION:2.0
PRODID:-//jEvents 1.5 for Joomla//EN
CALSCALE:GREGORIAN
METHOD:PUBLISH
BEGIN:VEVENT

UID:dcdb90acac62e64ec41b92c7a7b2466c
CATEGORIES:Standaard
SUMMARY:Open Zederik
LOCATION:
DESCRIPTION;ENCODING=QUOTED-PRINTABLE:<p style="text-align: center;" align="center"><span style="font-size: 13pt;
  line-height: 115%; font-family: 'Arial', sans-serif;">Op d.d. <strong><em>
 <span style="color: blue;">zaterdag 14 juli 2018 </span></em></strong><span
  style="color: black;">organiseert </span></span></p><p style="text-align: 
 center;" align="center"><strong><em><span style="font-size: 13pt; line-heig
 ht: 115%; font-family: 'Arial', sans-serif; color: black;">Forellen</span><
 /em></strong><strong><em><span style="font-size: 13pt; line-height: 115%; f
 ont-family: 'Arial', sans-serif; color: red;">V</span></em></strong><strong
 ><em><span style="font-size: 13pt; line-height: 115%; font-family: 'Arial',
  sans-serif; color: black;">isvijvers </span></em></strong><strong><em><spa
 n style="font-size: 13pt; line-height: 115%; font-family: 'Arial', sans-ser
 if; color: red;">Z</span></em></strong><strong><em><span style="font-size: 
 13pt; line-height: 115%; font-family: 'Arial', sans-serif; color: black;">e
 derik </span></em></strong></p><p style="text-align: center;" align="center
 "><span style="font-size: 13pt; line-height: 115%; font-family: 'Arial', sa
 ns-serif;">het: “ <strong><span style="color: red;">Open Zederik</span> Kam
 pioenschap”</strong><br /> . </span></p><p><span style="font-size: 13pt; li
 ne-height: 115%; font-family: 'Arial', sans-serif;">De Winnaar van het <str
 ong><span style="color: red;">Open Zederik</span> Kampioenschap</strong> ma
 g zich een jaar lang de Kampioen van <strong><span style="color: red;">Open
  Zederik</span></strong> noemen. En volgend jaar mag hij <strong>gratis</st
 rong> zijn titel verdedigen. </span></p><p><span style="font-size: 13pt; li
 ne-height: 115%; font-family: 'Arial', sans-serif;">Het <strong><span style
 ="color: red;">Open Zederik</span> kampioenschap</strong> telt, net als elk
  jaar, mee als een competitiewedstrijd.<br /> De kosten van deze wedstrijd 
 zijn voor de vissers €30,- per persoon. Alle deelnemers mogen na afloop van
  de wedstrijd <strong><em>GRATIS</em></strong> vissen.</span></p><p><span s
 tyle="font-size: 13pt; line-height: 115%; font-family: 'Arial', sans-serif;
 ">Aansluitend is er voor de vissers en eventuele partners gelegenheid om <s
 trong>Surinaams eten</strong> te consumeren..</span></p><p><span style="fon
 t-size: 13pt; line-height: 115%; font-family: 'Arial', sans-serif;">Dit ete
 n is voor de vaste competitievissers gratis. Voor de partners en de kindere
 n (tot 16 jaar) van de competitievissers is het <strong>Surinaams eten</str
 ong> ook gratis , voor de vissers die alleen met Open Zederik mee vissen, k
 ost het <strong>Surinaams eten</strong> €20,-. </span></p><p><strong><span 
 style="font-size: 13pt; line-height: 115%; font-family: 'Arial', sans-serif
 ;">De prijsuitreiking zal om +/- 17.30 uur plaatsvinden. Vanaf 18.00 kan er
  gegeten worden.</span></strong></p><p><span style="font-size: 13pt; line-h
 eight: 115%; font-family: 'Arial', sans-serif;">Deelnemers zijn welkom vana
 f 9.00 uur;</span></p><p><span style="font-size: 13pt; line-height: 115%; f
 ont-family: 'Arial', sans-serif;">Loting begint om 9.30 uur;</span></p><p><
 span style="font-size: 13pt; line-height: 115%; font-family: 'Arial', sans-
 serif;">Aanvang wedstrijd 10.00 uur.</span></p><p><span style="font-size: 1
 3pt; line-height: 115%; font-family: 'Arial', sans-serif;">Voor meer inform
 atie (opgeven kan niet meer) kunt u bellen naar: <strong>0183-351625</stron
 g> of </span></p><p><strong><span style="font-size: 13pt; line-height: 115%
 ; font-family: 'Arial', sans-serif;">06-51362369</span></strong><span style
 ="font-size: 13pt; line-height: 115%; font-family: 'Arial', sans-serif;"> o
 f een e-mail sturen naar: <strong>
 <script language='JavaScript' type='tex
 t/javascript'>
 <!--
 var prefix = 'm&#97;&#105;lt&#111;:';
 var suffix = '
 ';
 var attribs = '';
 var path = 'hr' + 'ef' + '=';
 var addy11846 = '&#10
 5;nf&#111;' + '&#64;';
 addy11846 = addy11846 + 'f&#111;r&#101;lv&#105;sv&#
 105;jv&#101;rsz&#101;d&#101;r&#105;k' + '&#46;' + 'nl';
 document.write( '<
 a ' + path + '\'' + prefix + addy11846 + suffix + '\'' + attribs + '>' );
 
 document.write( addy11846 );
 document.write( '<\/a>' );
 //-->
 </script><
 script language='JavaScript' type='text/javascript'>
 <!--
 document.write(
  '<span style=\'display: none;\'>' );
 //-->
 </script>Dit e-mailadres is b
 eschermd tegen spambots. U heeft Javascript nodig om het te kunnen zien.
 <
 script language='JavaScript' type='text/javascript'>
 <!--
 document.write(
  '</' );
 document.write( 'span>' );
 //-->
 </script></strong></span></p>

DTSTAMP:20260424T035245Z
DTSTART:20180714
DTEND:20180714
SEQUENCE:0
TRANSP:OPAQUE
END:VEVENT
END:VCALENDAR